BEGIN:VCALENDAR
VERSION:2.0
PRODID:-//Center For Food Action - Non Profit in New Jersey - ECPv6.15.14//NONSGML v1.0//EN
CALSCALE:GREGORIAN
METHOD:PUBLISH
X-WR-CALNAME:Center For Food Action - Non Profit in New Jersey
X-ORIGINAL-URL:https://cfanj.org
X-WR-CALDESC:Events for Center For Food Action - Non Profit in New Jersey
REFRESH-INTERVAL;VALUE=DURATION:PT1H
X-Robots-Tag:noindex
X-PUBLISHED-TTL:PT1H
BEGIN:VTIMEZONE
TZID:UTC
BEGIN:STANDARD
TZOFFSETFROM:+0000
TZOFFSETTO:+0000
TZNAME:UTC
DTSTART:20250101T000000
END:STANDARD
END:VTIMEZONE
BEGIN:VEVENT
DTSTART;TZID=UTC:20260117T120000
DTEND;TZID=UTC:20260117T140000
DTSTAMP:20260423T101250
CREATED:20251209T172749Z
LAST-MODIFIED:20260108T133755Z
UID:21252-1768651200-1768658400@cfanj.org
SUMMARY:Martin Luther King Jr. Day of Service: Weekend Snack Pack Event
DESCRIPTION:Click Here to RSVP\n \nJoin us as we honor the legacy of Dr. Martin Luther King\, Jr. with a MLK Day of Service Weekend Snack Pack Event. Together\, we’ll assemble 2\,000 Snack Packs for local children at risk of hunger\, a hands-on opportunity to support our neighbors and give back in the spirit of service. \nWe are honored to have this year’s event chaired by Dr. Theodora Lacey\, a civil rights leader who worked alongside Dr. King during the Montgomery Bus Boycott. \nDr. King once asked\, “What are you doing for others?” On this day of service\, let’s answer that call together. \nSign up today and be part of CFA’s 50th year of fighting hunger and building community.
URL:https://cfanj.org/event/martin-luther-king-jr-day-of-service-weekend-snack-pack-event-2026/
LOCATION:Community Baptist Church of Englewood\, 224 First Street\, Englewood\, New Jersey
CATEGORIES:Family-Friendly
ATTACH;FMTTYPE=image/png:https://cfanj.org/wp-content/uploads/2025/12/Join-Us-e1767879113653.png
END:VEVENT
BEGIN:VEVENT
DTSTART;TZID=UTC:20260509T090000
DTEND;TZID=UTC:20260509T120000
DTSTAMP:20260423T101250
CREATED:20260330T165046Z
LAST-MODIFIED:20260330T165531Z
UID:22078-1778317200-1778328000@cfanj.org
SUMMARY:5th Annual 5K Run/Walk
DESCRIPTION:Grab your running shoes or walking sneakers and register your family or friends or create a team! \nThe official meeting spot for event day is at the Overpeck County Park Amphitheater. \nThis is a USATF Certified Course and Timed Race for Runners.  \nTogether\, we can raise funds to purchase food to fight hunger in our community! \nMeet us at Overpeck County Park at the amphitheater on Saturday\, May 9th to fight hunger one step at a time. \nRegister Today!\n  \n 
URL:https://cfanj.org/event/5th-annual-5k-run-walk/
LOCATION:Overpeck County Park\, 199 Challenger Rd\, Ridgefield Park\, NJ\, 07660\, United States
ATTACH;FMTTYPE=image/jpeg:https://cfanj.org/wp-content/uploads/2025/05/186-1-scaled.jpg
END:VEVENT
END:VCALENDAR