BEGIN:VCALENDAR
VERSION:2.0
PRODID:-//Center For Food Action - Non Profit in New Jersey - ECPv6.15.14//NONSGML v1.0//EN
CALSCALE:GREGORIAN
METHOD:PUBLISH
X-WR-CALNAME:Center For Food Action - Non Profit in New Jersey
X-ORIGINAL-URL:https://cfanj.org
X-WR-CALDESC:Events for Center For Food Action - Non Profit in New Jersey
REFRESH-INTERVAL;VALUE=DURATION:PT1H
X-Robots-Tag:noindex
X-PUBLISHED-TTL:PT1H
BEGIN:VTIMEZONE
TZID:UTC
BEGIN:STANDARD
TZOFFSETFROM:+0000
TZOFFSETTO:+0000
TZNAME:UTC
DTSTART:20210101T000000
END:STANDARD
END:VTIMEZONE
BEGIN:VEVENT
DTSTART;TZID=UTC:20230122T080000
DTEND;TZID=UTC:20230212T170000
DTSTAMP:20260421T170249
CREATED:20220121T164609Z
LAST-MODIFIED:20230122T233352Z
UID:12025-1674374400-1676221200@cfanj.org
SUMMARY:2023 Souperbowl
DESCRIPTION:Help tackle hunger in our community and join  CFA’s  7th annual Souper Bowl fundraiser. The Souper Bowl is an excellent opportunity for groups to get involved; youth groups\, small groups\, Sunday school\, Mitzvah projects\, families\, and individuals are welcome. \nDownload the Souper Bowl Flyer here!\nRegister your organization for Souper Bowl Hearty Soup Can Drive using the button below.  Your team can donate funds or cans of their favorite hearty soups.\nbetween Sunday\, January 22th – Sunday\, February 12th\, to your designated drop-off location. \nSign Up!
URL:https://cfanj.org/event/2023-souperbowl/
LOCATION:NJ
ATTACH;FMTTYPE=image/png:https://cfanj.org/wp-content/uploads/2022/01/Souper-Bowl-Hearty-Soup-Drive.png
ORGANIZER;CN="Center for Food Action":MAILTO:inquiry@cfanj.org
END:VEVENT
BEGIN:VEVENT
DTSTART;TZID=UTC:20230116T120000
DTEND;TZID=UTC:20230116T133000
DTSTAMP:20260421T170249
CREATED:20221205T165926Z
LAST-MODIFIED:20221207T145626Z
UID:12662-1673870400-1673875800@cfanj.org
SUMMARY:MLK Day 2023
DESCRIPTION:Join Center for Food Action at the Martin Luther King\, Jr. Day of Service Snack Pack Event \nOn Monday\, January 16\, 2023\, our country will pause to celebrate the 93rd birthday of civil rights leader Rev. Dr. Martin Luther King\, Jr.  Dr. King’s messages advocated for economic justice\, education\, housing\, empowerment of the poor\, and working-class people of all colors. Dr. King stated\, “Life’s most persistent and urgent question is\, ‘what are you doing for others?’” \nCFA is pleased to announce that our 2023 volunteer MLK Day of Service Weekend Snack Pack will be an in-person event on Monday\, January 16th at 12 noon at Community Baptist Church of Englewood. \nOur 2023 Event Chairperson is Mrs. Theodora Lacey\, who is no stranger to civil rights. She worked under the leadership of Rev. Dr. Martin Luther King\, Jr.\, during the Montgomery Bus Boycott from 1955- 1956. I invite you to join our MLK Day of Service as we support children at risk of hunger in our community. \nPlease join us! Our children are worth it! \nDonate/Sponsor
URL:https://cfanj.org/event/mlk-day-2023/
LOCATION:Community Baptist Church of Englewood\, 224 First Street\, Englewood\, New Jersey
CATEGORIES:Family-Friendly
ATTACH;FMTTYPE=image/png:https://cfanj.org/wp-content/uploads/2021/11/MLK-IMAGE.png
ORGANIZER;CN="Center for Food Action":MAILTO:inquiry@cfanj.org
END:VEVENT
BEGIN:VEVENT
DTSTART;TZID=UTC:20221024T180000
DTEND;TZID=UTC:20221024T210000
DTSTAMP:20260421T170249
CREATED:20220914T175726Z
LAST-MODIFIED:20220923T152633Z
UID:12415-1666634400-1666645200@cfanj.org
SUMMARY:CFA's Annual Fundraiser: Moving Forward Together
DESCRIPTION:Come celebrate with us at CFA’s 46th Annual Fundraiser\, Moving Forward Together.  Join us for dinner\, drinks and dessert and a special keynote address from Ms. Jasmine Crowe\, founder\, and CEO of Goodr\, known for her motivational TedTalk\, What we are getting wrong in the fight to end hunger.  The night also includes the presentation of our Public Service Award to Mrs. Cynthia Johnson Barbato our former board president whose years of service enhanced our mission of preventing hunger and homelessness and our Humanitarian Award to the Oritani Charitable Foundation.\n  \nLearn More / Register \n 
URL:https://cfanj.org/event/cfas-annual-fundraiser-moving-forward-together/
LOCATION:Glenpointe Mariott\, 100 William Burr Boulevard\, Teaneck\, NJ\, United States
ATTACH;FMTTYPE=image/jpeg:https://cfanj.org/wp-content/uploads/2022/09/Fall-Fundraiser-Registration-Banner.jpg
ORGANIZER;CN="Center for Food Action":MAILTO:inquiry@cfanj.org
END:VEVENT
BEGIN:VEVENT
DTSTART;TZID=UTC:20220514T073000
DTEND;TZID=UTC:20220514T120000
DTSTAMP:20260421T170249
CREATED:20220216T221852Z
LAST-MODIFIED:20220311T213739Z
UID:12149-1652513400-1652529600@cfanj.org
SUMMARY:CFA Run/Walk - Fighting Hunger One Step at a Time
DESCRIPTION:Help fight hunger in our community\, grab the kids\, grab your walking shoes and join us on May 14th\, in Overpeck Park for CFA’s inaugural 5K.\nThe money you raise helps fight hunger in your community!\n\nNo one should be hungry in New Jersey\, yet hunger is present in every town and community. Together we can raise funds to purchase nutritious food for people and families in need. \nLearn More / Register \n\n 
URL:https://cfanj.org/event/runwalk22/
LOCATION:Overpeck Park\, 199 Challenger Road\, Ridgefield Park\, NJ\, 07660\, United States
CATEGORIES:Family-Friendly
ATTACH;FMTTYPE=image/jpeg:https://cfanj.org/wp-content/uploads/2022/02/Copy-of-event-headers-Instagram-Post.jpg
ORGANIZER;CN="Center for Food Action":MAILTO:inquiry@cfanj.org
END:VEVENT
END:VCALENDAR