BEGIN:VCALENDAR
VERSION:2.0
PRODID:-//Center For Food Action - Non Profit in New Jersey - ECPv6.15.14//NONSGML v1.0//EN
CALSCALE:GREGORIAN
METHOD:PUBLISH
X-WR-CALNAME:Center For Food Action - Non Profit in New Jersey
X-ORIGINAL-URL:https://cfanj.org
X-WR-CALDESC:Events for Center For Food Action - Non Profit in New Jersey
REFRESH-INTERVAL;VALUE=DURATION:PT1H
X-Robots-Tag:noindex
X-PUBLISHED-TTL:PT1H
BEGIN:VTIMEZONE
TZID:UTC
BEGIN:STANDARD
TZOFFSETFROM:+0000
TZOFFSETTO:+0000
TZNAME:UTC
DTSTART:20220101T000000
END:STANDARD
END:VTIMEZONE
BEGIN:VEVENT
DTSTART;TZID=UTC:20230122T080000
DTEND;TZID=UTC:20230212T170000
DTSTAMP:20260423T220510
CREATED:20220121T164609Z
LAST-MODIFIED:20230122T233352Z
UID:12025-1674374400-1676221200@cfanj.org
SUMMARY:2023 Souperbowl
DESCRIPTION:Help tackle hunger in our community and join  CFA’s  7th annual Souper Bowl fundraiser. The Souper Bowl is an excellent opportunity for groups to get involved; youth groups\, small groups\, Sunday school\, Mitzvah projects\, families\, and individuals are welcome. \nDownload the Souper Bowl Flyer here!\nRegister your organization for Souper Bowl Hearty Soup Can Drive using the button below.  Your team can donate funds or cans of their favorite hearty soups.\nbetween Sunday\, January 22th – Sunday\, February 12th\, to your designated drop-off location. \nSign Up!
URL:https://cfanj.org/event/2023-souperbowl/
LOCATION:NJ
ATTACH;FMTTYPE=image/png:https://cfanj.org/wp-content/uploads/2022/01/Souper-Bowl-Hearty-Soup-Drive.png
ORGANIZER;CN="Center for Food Action":MAILTO:inquiry@cfanj.org
END:VEVENT
END:VCALENDAR