BEGIN:VCALENDAR
VERSION:2.0
PRODID:-//Center For Food Action - Non Profit in New Jersey - ECPv6.15.14//NONSGML v1.0//EN
CALSCALE:GREGORIAN
METHOD:PUBLISH
X-WR-CALNAME:Center For Food Action - Non Profit in New Jersey
X-ORIGINAL-URL:https://cfanj.org
X-WR-CALDESC:Events for Center For Food Action - Non Profit in New Jersey
REFRESH-INTERVAL;VALUE=DURATION:PT1H
X-Robots-Tag:noindex
X-PUBLISHED-TTL:PT1H
BEGIN:VTIMEZONE
TZID:UTC
BEGIN:STANDARD
TZOFFSETFROM:+0000
TZOFFSETTO:+0000
TZNAME:UTC
DTSTART:20230101T000000
END:STANDARD
END:VTIMEZONE
BEGIN:VEVENT
DTSTART;TZID=UTC:20240504T073000
DTEND;TZID=UTC:20240504T073000
DTSTAMP:20260422T220125
CREATED:20240304T173334Z
LAST-MODIFIED:20240304T173721Z
UID:17280-1714807800-1714807800@cfanj.org
SUMMARY:CFA Run/Walk - Fighting Hunger One Step at a Time
DESCRIPTION:Help fight hunger in our community\, grab the kids\, grab your walking shoes and join us on May 4th in Overpeck Park for CFA’s second annual 5K.\nThe money you raise helps fight hunger in your community!\n\nNo one should be hungry in New Jersey\, yet hunger is present in every town and community. Together we can raise funds to purchase nutritious food for people and families in need. \nLearn More / Register \n\n 
URL:https://cfanj.org/event/cfa-run-walk-fighting-hunger-one-step-at-a-time-2/
LOCATION:Overpeck Park\, 199 Challenger Road\, Ridgefield Park\, NJ\, 07660\, United States
CATEGORIES:Family-Friendly
ATTACH;FMTTYPE=image/jpeg:https://cfanj.org/wp-content/uploads/2022/05/Center-for-Food-Action-of-New-Jersey-CFANJ-Marathon-Gallery-2022-12.jpg
ORGANIZER;CN="Center for Food Action":MAILTO:inquiry@cfanj.org
END:VEVENT
END:VCALENDAR