BEGIN:VCALENDAR
VERSION:2.0
PRODID:-//Center For Food Action - Non Profit in New Jersey - ECPv6.15.14//NONSGML v1.0//EN
CALSCALE:GREGORIAN
METHOD:PUBLISH
X-WR-CALNAME:Center For Food Action - Non Profit in New Jersey
X-ORIGINAL-URL:https://cfanj.org
X-WR-CALDESC:Events for Center For Food Action - Non Profit in New Jersey
REFRESH-INTERVAL;VALUE=DURATION:PT1H
X-Robots-Tag:noindex
X-PUBLISHED-TTL:PT1H
BEGIN:VTIMEZONE
TZID:UTC
BEGIN:STANDARD
TZOFFSETFROM:+0000
TZOFFSETTO:+0000
TZNAME:UTC
DTSTART:20220101T000000
END:STANDARD
END:VTIMEZONE
BEGIN:VEVENT
DTSTART;TZID=UTC:20231009T180000
DTEND;TZID=UTC:20231009T210000
DTSTAMP:20260423T081144
CREATED:20230804T145049Z
LAST-MODIFIED:20230807T164046Z
UID:13339-1696874400-1696885200@cfanj.org
SUMMARY:CFA's Annual Fundraiser: Moving Forward Together 2023
DESCRIPTION:Come celebrate with us at CFA’s 47th Annual Fundraiser. Join us for dinner\, drinks and dessert and a keynote address from Mark Dinglasan\, Executive Director NJ Office of the Food Security Advocate. The night also includes the presentation of our Public Service Award to Dr. Joy Dorsey-Whiting Hackensack’s Middle School Principal who has worked with CFA for years on providing our youngest guests with food they need through the Weekend Snack Program and our Community Leadership Service Award to Janet Sharma from Age-Friendly Englewood.\n  \nLearn More / Register \n 
URL:https://cfanj.org/event/cfas-annual-fundraiser-moving-forward-together-2023/
LOCATION:Glenpointe Mariott\, 100 William Burr Boulevard\, Teaneck\, NJ\, United States
ATTACH;FMTTYPE=image/jpeg:https://cfanj.org/wp-content/uploads/2022/10/Gallery-image1min.jpg
ORGANIZER;CN="Center for Food Action":MAILTO:inquiry@cfanj.org
END:VEVENT
END:VCALENDAR