BEGIN:VCALENDAR
VERSION:2.0
PRODID:-//Center For Food Action - Non Profit in New Jersey - ECPv6.15.14//NONSGML v1.0//EN
CALSCALE:GREGORIAN
METHOD:PUBLISH
X-WR-CALNAME:Center For Food Action - Non Profit in New Jersey
X-ORIGINAL-URL:https://cfanj.org
X-WR-CALDESC:Events for Center For Food Action - Non Profit in New Jersey
REFRESH-INTERVAL;VALUE=DURATION:PT1H
X-Robots-Tag:noindex
X-PUBLISHED-TTL:PT1H
BEGIN:VTIMEZONE
TZID:UTC
BEGIN:STANDARD
TZOFFSETFROM:+0000
TZOFFSETTO:+0000
TZNAME:UTC
DTSTART:20220101T000000
END:STANDARD
END:VTIMEZONE
BEGIN:VEVENT
DTSTART;TZID=UTC:20230911T160000
DTEND;TZID=UTC:20230911T180000
DTSTAMP:20260423T092517
CREATED:20230807T163252Z
LAST-MODIFIED:20230807T163252Z
UID:13344-1694448000-1694455200@cfanj.org
SUMMARY:9/11 Day of Service 2023
DESCRIPTION:Join Center for Food Action at the 9/11 National Day of Service Snack Pack Event \nOn Monday\, September 11th at 4:00pm\, CFA will gather inperson for our 11th Annual 9/11 Weekend Snack Pack event at Fairleigh Dickinson University\, Edward Williams Gallery\, FDU\, 150 Kotte Place Hackensack NJ 07601. CFA’s annual day of service supports our initiatives by improving our neighbors’ lives\, strengthening communities\, and fostering civic engagement through service and volunteering. \nPlease join us! Our children are worth it! \nDonate/Sponsor
URL:https://cfanj.org/event/9-11-day-of-service-2023/
LOCATION:Fairleigh Dickinson University\, 150 Kotte Place\, Hackensack\, NJ\, 07601\, United States
CATEGORIES:Family-Friendly
ATTACH;FMTTYPE=image/jpeg:https://cfanj.org/wp-content/uploads/2022/08/pic-scaled.jpg
ORGANIZER;CN="Center for Food Action":MAILTO:inquiry@cfanj.org
END:VEVENT
END:VCALENDAR