BEGIN:VCALENDAR
VERSION:2.0
PRODID:-//Center For Food Action - Non Profit in New Jersey - ECPv6.15.14//NONSGML v1.0//EN
CALSCALE:GREGORIAN
METHOD:PUBLISH
X-ORIGINAL-URL:https://cfanj.org
X-WR-CALDESC:Events for Center For Food Action - Non Profit in New Jersey
REFRESH-INTERVAL;VALUE=DURATION:PT1H
X-Robots-Tag:noindex
X-PUBLISHED-TTL:PT1H
BEGIN:VTIMEZONE
TZID:UTC
BEGIN:STANDARD
TZOFFSETFROM:+0000
TZOFFSETTO:+0000
TZNAME:UTC
DTSTART:20230101T000000
END:STANDARD
END:VTIMEZONE
BEGIN:VEVENT
DTSTART;TZID=UTC:20240115T120000
DTEND;TZID=UTC:20240115T133000
DTSTAMP:20260423T045526
CREATED:20231129T160039Z
LAST-MODIFIED:20231129T160528Z
UID:14955-1705320000-1705325400@cfanj.org
SUMMARY:MLK Day 2024
DESCRIPTION:Join Center for Food Action at the Martin Luther King\, Jr. Day of Service Snack Pack Event \nOn Monday\, January 15\, 2024\, our country will pause to celebrate the 93rd birthday of civil rights leader Rev. Dr. Martin Luther King\, Jr.  Dr. King’s messages advocated for economic justice\, education\, housing\, empowerment of the poor\, and working-class people of all colors. Dr. King stated\, “Life’s most persistent and urgent question is\, ‘what are you doing for others?’” \nCFA is pleased to announce that our 2024 volunteer MLK Day of Service Weekend Snack Pack will be an in-person event on Monday\, January 15th at 12 noon at Community Baptist Church of Englewood. \nOur 2024 Event Chairperson is Mrs. Theodora Lacey\, who is no stranger to civil rights. She worked under the leadership of Rev. Dr. Martin Luther King\, Jr.\, during the Montgomery Bus Boycott from 1955- 1956. I invite you to join our MLK Day of Service as we support children at risk of hunger in our community. \nPlease join us! Our children are worth it! \nDonate/Sponsor
URL:https://cfanj.org/event/mlk-day-2024/
LOCATION:Community Baptist Church of Englewood\, 224 First Street\, Englewood\, New Jersey
CATEGORIES:Family-Friendly
ATTACH;FMTTYPE=image/png:https://cfanj.org/wp-content/uploads/2021/11/MLK-IMAGE.png
ORGANIZER;CN="Center for Food Action":MAILTO:inquiry@cfanj.org
END:VEVENT
END:VCALENDAR